BEGIN:VCALENDAR
VERSION:2.0
PRODID:-//El Sistema Texas - ECPv6.15.15//NONSGML v1.0//EN
CALSCALE:GREGORIAN
METHOD:PUBLISH
X-ORIGINAL-URL:https://elsistematexas.org
X-WR-CALDESC:Events for El Sistema Texas
REFRESH-INTERVAL;VALUE=DURATION:PT1H
X-Robots-Tag:noindex
X-PUBLISHED-TTL:PT1H
BEGIN:VTIMEZONE
TZID:America/Sao_Paulo
BEGIN:STANDARD
TZOFFSETFROM:-0300
TZOFFSETTO:-0300
TZNAME:-03
DTSTART:20240101T000000
END:STANDARD
END:VTIMEZONE
BEGIN:VEVENT
DTSTART;TZID=America/Sao_Paulo:20250921T130000
DTEND;TZID=America/Sao_Paulo:20250921T220000
DTSTAMP:20260423T131508
CREATED:20250910T132521Z
LAST-MODIFIED:20250910T133122Z
UID:8297-1758459600-1758492000@elsistematexas.org
SUMMARY:Festival de Salsa
DESCRIPTION:Rhythm\, joy\, and community in every beat!  \nThis September\, El Sistema Texas brings the energy of our Latin-Caribbean Orchestra to the heart of Houston at the Festival de la Salsa.  \nOur children and youth will light up the stage with music that celebrates culture\, unity\, and the power of growing together through art. It’s more than a concert — it’s a celebration of life\, family\, and the rhythms that connect us all.  \n September 21\, 2025\n 1:00 PM – 10:00 PM\n Midtown Park\, 2811 Travis St\, Houston\, TX 77006 \nJoin us\, dance with us\, and feel the heartbeat of our community in every note.  \nBuy Tickets
URL:https://elsistematexas.org/event/festival-de-salsa/
LOCATION:Midtown Park\, 2811 Travis St\, Houston\, TX 77006\, Midtown Park\, 2811 Travis St\, Houston\, TX 77006\, Houston\, TX\, 77006\, United States
CATEGORIES:El Sistema Texas
ATTACH;FMTTYPE=image/png:https://elsistematexas.org/wp-content/uploads/2025/09/salsa.png
END:VEVENT
END:VCALENDAR