BEGIN:VCALENDAR
VERSION:2.0
PRODID:-//El Sistema Texas - ECPv6.15.15//NONSGML v1.0//EN
CALSCALE:GREGORIAN
METHOD:PUBLISH
X-ORIGINAL-URL:https://elsistematexas.org
X-WR-CALDESC:Events for El Sistema Texas
REFRESH-INTERVAL;VALUE=DURATION:PT1H
X-Robots-Tag:noindex
X-PUBLISHED-TTL:PT1H
BEGIN:VTIMEZONE
TZID:UTC
BEGIN:STANDARD
TZOFFSETFROM:+0000
TZOFFSETTO:+0000
TZNAME:UTC
DTSTART:20220101T000000
END:STANDARD
END:VTIMEZONE
BEGIN:VTIMEZONE
TZID:America/Sao_Paulo
BEGIN:STANDARD
TZOFFSETFROM:-0300
TZOFFSETTO:-0300
TZNAME:-03
DTSTART:20220101T000000
END:STANDARD
END:VTIMEZONE
BEGIN:VEVENT
DTSTART;TZID=UTC:20231008T103000
DTEND;TZID=UTC:20231008T120000
DTSTAMP:20260422T154832
CREATED:20230710T105634Z
LAST-MODIFIED:20230929T135914Z
UID:1485-1696761000-1696766400@elsistematexas.org
SUMMARY:St. Edith Stein Founder´s Day Festival
DESCRIPTION:We invite you to the St. Edith Stein Founder’s Day Festival.  \n📅 October 8th  \n⏰ 10:30 am  \n📍 St. Edith Stein Catholic Church \nOrchestral and choral music enriches culture\, fosters personal development\, and enhances the quality of life for both performers and those who appreciate it. Join us for a day of musical family fun!!
URL:https://elsistematexas.org/event/st-edith-stein-founders-day-festival/
LOCATION:St. Edith Stein Catholic Church\, TX\, United States
CATEGORIES:El Sistema Texas
ATTACH;FMTTYPE=image/jpeg:https://elsistematexas.org/wp-content/uploads/2023/07/6.jpg
END:VEVENT
BEGIN:VEVENT
DTSTART;TZID=America/Sao_Paulo:20231013T190000
DTEND;TZID=America/Sao_Paulo:20231013T200000
DTSTAMP:20260422T154832
CREATED:20230925T200208Z
LAST-MODIFIED:20231030T182536Z
UID:3629-1697223600-1697227200@elsistematexas.org
SUMMARY:Hispanic Heritage Concert
DESCRIPTION:Hispanic Heritage Concert  \nDear community\,We are thrilled to announce the upcoming event that will mark the spectacular conclusion of Hispanic Heritage Month celebrations. Get ready to witness the debut of the Hispanic Youth Chamber Orchestra! This talented group of young musicians\, aged between 14 and 20\, is determined to enrich our local music scene with their innovative performance.The highlight of the night will be the performances by two exceptional soloists\, both trained in the ranks of El Sistema Texas and with only one year of formal musical training. Avril Carrillo will take us on an emotional journey as she interprets the third movement of Rieding’s “Concerto for Orchestra in B Major.” On the other hand\, Adrian Gonzalez\, a master of the cello\, will captivate us with Vivaldi’s “Concerto in C Major.” These pieces are true gems of virtuosity\, further highlighting the astonishing evolution of these young musicians in their short but brilliant careers.Save the date and join us for a night filled with music and passion!
URL:https://elsistematexas.org/event/hispanic-heritage-concer/
LOCATION:St. John Vianney Catholict Church\, St. John Vianney Catholic Church 625 nottingham Oaks Trail\, Houston\, TX\, 77079\, United States
CATEGORIES:El Sistema Texas
ATTACH;FMTTYPE=image/jpeg:https://elsistematexas.org/wp-content/uploads/2023/09/event1-2.jpg
END:VEVENT
END:VCALENDAR