BEGIN:VCALENDAR
VERSION:2.0
PRODID:-//El Sistema Texas - ECPv6.15.15//NONSGML v1.0//EN
CALSCALE:GREGORIAN
METHOD:PUBLISH
X-WR-CALNAME:El Sistema Texas
X-ORIGINAL-URL:https://elsistematexas.org
X-WR-CALDESC:Events for El Sistema Texas
REFRESH-INTERVAL;VALUE=DURATION:PT1H
X-Robots-Tag:noindex
X-PUBLISHED-TTL:PT1H
BEGIN:VTIMEZONE
TZID:America/Sao_Paulo
BEGIN:STANDARD
TZOFFSETFROM:-0300
TZOFFSETTO:-0300
TZNAME:-03
DTSTART:20230101T000000
END:STANDARD
END:VTIMEZONE
BEGIN:VEVENT
DTSTART;TZID=America/Sao_Paulo:20240427T110000
DTEND;TZID=America/Sao_Paulo:20240427T130000
DTSTAMP:20260422T045152
CREATED:20240418T204816Z
LAST-MODIFIED:20240418T210459Z
UID:7068-1714215600-1714222800@elsistematexas.org
SUMMARY:Concierto día del niño
DESCRIPTION:Come celebrate Children’s Day with a spectacular concert at Church on the Rock! This year\, we are pleased to offer an afternoon of music specially designed to entertain and delight the little ones in the house. Get ready for an experience full of rhythm\, color\, and lots of fun. \nAdmission is free and open to all families who wish to join us on this special day. It’s a wonderful opportunity for children to experience the joy of music and celebrate their day in a big way. \nChurch On The Rock Katy\, 433 Barker Cypress Rd\, Houston\, TX 77094
URL:https://elsistematexas.org/event/concierto-dia-del-nino/
LOCATION:Church On The Rock Katy\, 433 Barker Cypress Rd\, Houston\, TX 77094\, Church On The Rock Katy\, 433 Barker Cypress Rd\, Houston\, TX 77094\, Katy\, TX\, 77094\, United States
CATEGORIES:El Sistema Texas
ATTACH;FMTTYPE=image/jpeg:https://elsistematexas.org/wp-content/uploads/2024/04/Flyer-Dia-del-Nino.jpg
END:VEVENT
BEGIN:VEVENT
DTSTART;TZID=America/Sao_Paulo:20240428T170000
DTEND;TZID=America/Sao_Paulo:20240428T190000
DTSTAMP:20260422T045152
CREATED:20240418T205951Z
LAST-MODIFIED:20240424T214201Z
UID:7075-1714323600-1714330800@elsistematexas.org
SUMMARY:Fundraising Concert El Sistema Texas
DESCRIPTION:Support the Texas System on their tour of Italy and France! \nAn unforgettable musical journey \nThe Texas System\, a group of talented young people\, embarks on a dream tour of Italy and France. To make this dream come true\, I need your support. \nA charity concert for a unique experience. This unique concert will be an opportunity to enjoy an evening full of music and passion. At the same time\, you will be contributing to the training and professional development of these young musicians. \nIn the following link you can support us with your contribution to continue with our dreams: Click here to donate \nRusso’s New York Pizzeria & Italian Kitchen – Westgreen\, 20900 katy Fwy #L Katy\, TX 77449
URL:https://elsistematexas.org/event/fundraising-concert-el-sistema-texas/
LOCATION:Russo’s New York Pizzeria & Italian Kitchen\, Russo's New York Pizzeria & Italian Kitchen - Westgreen\, 20900 katy Fwy #L Katy\, TX 77449\, Katy\, TX\, 77449\, United States
CATEGORIES:El Sistema Texas
ATTACH;FMTTYPE=image/jpeg:https://elsistematexas.org/wp-content/uploads/2024/04/Flyer-Fundraisin.jpg
END:VEVENT
END:VCALENDAR