BEGIN:VCALENDAR
VERSION:2.0
PRODID:-//El Sistema Texas - ECPv6.15.15//NONSGML v1.0//EN
CALSCALE:GREGORIAN
METHOD:PUBLISH
X-WR-CALNAME:El Sistema Texas
X-ORIGINAL-URL:https://elsistematexas.org
X-WR-CALDESC:Events for El Sistema Texas
REFRESH-INTERVAL;VALUE=DURATION:PT1H
X-Robots-Tag:noindex
X-PUBLISHED-TTL:PT1H
BEGIN:VTIMEZONE
TZID:America/Sao_Paulo
BEGIN:STANDARD
TZOFFSETFROM:-0300
TZOFFSETTO:-0300
TZNAME:-03
DTSTART:20230101T000000
END:STANDARD
END:VTIMEZONE
BEGIN:VEVENT
DTSTART;TZID=America/Sao_Paulo:20241116T170000
DTEND;TZID=America/Sao_Paulo:20241116T180000
DTSTAMP:20260419T111304
CREATED:20240925T004348Z
LAST-MODIFIED:20240925T004631Z
UID:7522-1731776400-1731780000@elsistematexas.org
SUMMARY:México in the Soul – A Cultural Legacy
DESCRIPTION:México in the Soul – A Cultural Legacy\n\n Join us for an extraordinary evening with “México in the Soul – A Cultural Legacy”! Celebrate the vibrant Mexican culture through an enchanting display of music and dance.\n\n Date: Saturday\, November 16  Time: 5:00 PM  Location: Cullen Theater\, University of Houston\n\n Experience mesmerizing performances by Mariachi Nuestras Raíces\, Danza Ritual\, and a special presentation by Mariachi Juvenil Zempoala.\n\n Tickets are now on sale. Don’t miss this unique opportunity to immerse yourself in Mexico’s rich cultural heritage.\n\nFor more information and to purchase tickets\, visit our website
URL:https://elsistematexas.org/event/mexico-in-the-soul-a-cultural-legacy/
LOCATION:Cullen Theater\, University of Houston\, Cullen Theater\, University of Houston\, Houston\, TX\, United States
CATEGORIES:El Sistema Texas
ATTACH;FMTTYPE=image/jpeg:https://elsistematexas.org/wp-content/uploads/2024/09/image_123650291.jpg
END:VEVENT
BEGIN:VEVENT
DTSTART;TZID=America/Sao_Paulo:20241117T150000
DTEND;TZID=America/Sao_Paulo:20241117T163000
DTSTAMP:20260419T111304
CREATED:20241112T163350Z
LAST-MODIFIED:20241112T163350Z
UID:7562-1731855600-1731861000@elsistematexas.org
SUMMARY:¡Sumérgete en el Taller “Didattica MusiColorata"!
DESCRIPTION:¿Quieres darle un nuevo color a la enseñanza musical?  No te pierdas esta oportunidad única de aprender junto a la reconocida Maestra Karen Velásquez\, directamente desde Italia\, quien nos trae una metodología revolucionaria para hacer de la música una experiencia visual\, creativa y transformadora. \n¿Qué viviremos?\n Técnicas innovadoras que combinan música y color\n Herramientas prácticas para inspirar y conectar con los estudiantes\n Actividades dinámicas y creativas para enriquecer cada clase \nDetalles del evento:\n Fecha: Domingo\, 17 de Noviembre\n Hora: 3:00 pm\n Lugar: 21307 Park Downe Ln\, Katy\, Texas 77450 \nBeneficios especiales:\n Refrigerio incluido\n Certificado de participación \nEste taller está diseñado para quienes buscan dar un giro creativo y único a su manera de enseñar música. No dejes pasar esta experiencia que promete ser inspiradora y enriquecedora para tu carrera. ¡Imagina el impacto de esta metodología en tus estudiantes! \n Confirmación e información adicional: Rhomy.lopez@elsistematexas.com \n¡Te esperamos para descubrir juntos la magia de la música y el color! 
URL:https://elsistematexas.org/event/sumergete-en-el-taller-didattica-musicolorata/
LOCATION:21307 Park Downe Ln katy TX 77450\, TX\, 77450\, United States
CATEGORIES:El Sistema Texas
ATTACH;FMTTYPE=image/jpeg:https://elsistematexas.org/wp-content/uploads/2024/11/Imagen-de-WhatsApp-2024-11-12-a-las-10.39.18_a22d5864.jpg
END:VEVENT
END:VCALENDAR