BEGIN:VCALENDAR
VERSION:2.0
PRODID:-//El Sistema Texas - ECPv6.15.15//NONSGML v1.0//EN
CALSCALE:GREGORIAN
METHOD:PUBLISH
X-ORIGINAL-URL:https://elsistematexas.org
X-WR-CALDESC:Events for El Sistema Texas
REFRESH-INTERVAL;VALUE=DURATION:PT1H
X-Robots-Tag:noindex
X-PUBLISHED-TTL:PT1H
BEGIN:VTIMEZONE
TZID:America/Sao_Paulo
BEGIN:STANDARD
TZOFFSETFROM:-0300
TZOFFSETTO:-0300
TZNAME:-03
DTSTART:20220101T000000
END:STANDARD
END:VTIMEZONE
BEGIN:VEVENT
DTSTART;TZID=America/Sao_Paulo:20231208T190000
DTEND;TZID=America/Sao_Paulo:20231208T203000
DTSTAMP:20260422T141405
CREATED:20231031T045507Z
LAST-MODIFIED:20231031T045507Z
UID:6557-1702062000-1702067400@elsistematexas.org
SUMMARY:Katy Mills Christmas Festival - El Sistema Texas
DESCRIPTION:
URL:https://elsistematexas.org/event/katy-mills-christmas-festival-el-sistema-texas/
LOCATION:5000 Katy Mills Cir\, katy\, Houston\, TX\, 77494\, United States
CATEGORIES:El Sistema Texas
ATTACH;FMTTYPE=image/png:https://elsistematexas.org/wp-content/uploads/2023/10/Katy-Mills-Christmas-Festival-El-Sistema-Texas.png
END:VEVENT
END:VCALENDAR