BEGIN:VCALENDAR
VERSION:2.0
PRODID:-//El Sistema Texas - ECPv6.15.15//NONSGML v1.0//EN
CALSCALE:GREGORIAN
METHOD:PUBLISH
X-ORIGINAL-URL:https://elsistematexas.org
X-WR-CALDESC:Events for El Sistema Texas
REFRESH-INTERVAL;VALUE=DURATION:PT1H
X-Robots-Tag:noindex
X-PUBLISHED-TTL:PT1H
BEGIN:VTIMEZONE
TZID:America/Sao_Paulo
BEGIN:STANDARD
TZOFFSETFROM:-0300
TZOFFSETTO:-0300
TZNAME:-03
DTSTART:20220101T000000
END:STANDARD
END:VTIMEZONE
BEGIN:VEVENT
DTSTART;TZID=America/Sao_Paulo:20231217T170000
DTEND;TZID=America/Sao_Paulo:20231217T190000
DTSTAMP:20260422T141336
CREATED:20231031T050345Z
LAST-MODIFIED:20231031T050531Z
UID:6568-1702832400-1702839600@elsistematexas.org
SUMMARY:Holidays Gala Concert - El Sistema Texas
DESCRIPTION:Join us at the Annual Gala Concert in El Sistema Texas. Music and education intertwine. ⭐ \nYour participation transforms lives and the future of music. Don’t miss out! \nRead more in our Website\nhttps://lnkd.in/g92DacjW
URL:https://elsistematexas.org/event/holidays-gala-concert-el-sistema-texas/
LOCATION:433 Barker Cypress\, 433 Barker Cypress Rd\, Houston\, TX\, 77094\, United States
CATEGORIES:El Sistema Texas
ATTACH;FMTTYPE=image/png:https://elsistematexas.org/wp-content/uploads/2023/10/Holidays-Gala-Concert-El-Sistema-Texas.png
END:VEVENT
END:VCALENDAR