BEGIN:VCALENDAR
VERSION:2.0
PRODID:-//El Sistema Texas - ECPv6.15.15//NONSGML v1.0//EN
CALSCALE:GREGORIAN
METHOD:PUBLISH
X-WR-CALNAME:El Sistema Texas
X-ORIGINAL-URL:https://elsistematexas.org
X-WR-CALDESC:Events for El Sistema Texas
REFRESH-INTERVAL;VALUE=DURATION:PT1H
X-Robots-Tag:noindex
X-PUBLISHED-TTL:PT1H
BEGIN:VTIMEZONE
TZID:America/Sao_Paulo
BEGIN:STANDARD
TZOFFSETFROM:-0300
TZOFFSETTO:-0300
TZNAME:-03
DTSTART:20250101T000000
END:STANDARD
END:VTIMEZONE
BEGIN:VEVENT
DTSTART;TZID=America/Sao_Paulo:20260718T170000
DTEND;TZID=America/Sao_Paulo:20260718T190000
DTSTAMP:20260419T150531
CREATED:20260225T165252Z
LAST-MODIFIED:20260225T165252Z
UID:8926-1784394000-1784401200@elsistematexas.org
SUMMARY:4th Anniversary Concert
DESCRIPTION:Four years. Countless rehearsals. Hundreds of dreams in motion.  \nJoin us as we celebrate our 4th Anniversary Concert — a special afternoon honoring the journey\, the growth\, and the community that has made El Sistema Texas what it is today.  \nThis is more than a concert. It’s a celebration of every student who dared to begin\, every family who believed\, and every note that has shaped our story. \n 433 Barker Cypress Rd\, Houston\, TX 77094\n July 18th\, 2026\n 5:00 PM \nCome celebrate with us and be part of the music that continues to transform lives. \nBuy Tickets
URL:https://elsistematexas.org/event/4th-anniversary-concert/
LOCATION:433 Barker Cypress Rd\, Houston\, TX 77094\, 433 Barker Cypress Rd\, Houston\, TX 77094\, Katy\, TX\, 77094\, United States
CATEGORIES:El Sistema Texas
ATTACH;FMTTYPE=image/jpeg:https://elsistematexas.org/wp-content/uploads/2026/02/Flyer-Anniversary-Concert-4.jpg
END:VEVENT
END:VCALENDAR