BEGIN:VCALENDAR
VERSION:2.0
PRODID:-//El Sistema Texas - ECPv6.15.15//NONSGML v1.0//EN
CALSCALE:GREGORIAN
METHOD:PUBLISH
X-WR-CALNAME:El Sistema Texas
X-ORIGINAL-URL:https://elsistematexas.org
X-WR-CALDESC:Events for El Sistema Texas
REFRESH-INTERVAL;VALUE=DURATION:PT1H
X-Robots-Tag:noindex
X-PUBLISHED-TTL:PT1H
BEGIN:VTIMEZONE
TZID:America/Sao_Paulo
BEGIN:STANDARD
TZOFFSETFROM:-0300
TZOFFSETTO:-0300
TZNAME:-03
DTSTART:20240101T000000
END:STANDARD
END:VTIMEZONE
BEGIN:VEVENT
DTSTART;TZID=America/Sao_Paulo:20250502T183000
DTEND;TZID=America/Sao_Paulo:20250502T200000
DTSTAMP:20260423T182936
CREATED:20250402T003031Z
LAST-MODIFIED:20250508T134411Z
UID:7508-1746210600-1746216000@elsistematexas.org
SUMMARY:Songs of the World Concert
DESCRIPTION:¡La música nos une sin importar fronteras!\n\nEste 2 de mayo\, nuestros niños y jóvenes de El sistema Texas elevarán sus voces en Songs of the World\, un concierto lleno de emoción y diversidad. Cada nota será un puente entre culturas\, uniendo corazones en un solo idioma: la música.\n\nSt. John Vianney\n 6:30 pm\n\nAcompañanos en esta celebración\, compra tus entradas.\n\n\n\n¡Compra tus Entradas aquí!
URL:https://elsistematexas.org/event/songs-of-the-world-concert/
LOCATION:St. John Vianney\, St. John Vianney\, Houston\, TX\, United States
CATEGORIES:El Sistema Texas
ATTACH;FMTTYPE=image/jpeg:https://elsistematexas.org/wp-content/uploads/2024/09/Flyer-Songs-of-the-World-2.jpg
END:VEVENT
BEGIN:VEVENT
DTSTART;TZID=America/Sao_Paulo:20250517T170000
DTEND;TZID=America/Sao_Paulo:20250517T180000
DTSTAMP:20260423T182936
CREATED:20250402T174032Z
LAST-MODIFIED:20250508T134507Z
UID:7794-1747501200-1747504800@elsistematexas.org
SUMMARY:La primavera florece en música
DESCRIPTION:El Spring Concert de El Sistema Texas llega para llenar nuestros corazones de armonía y emoción. Cada nota que interpretan nuestros niños es un reflejo de su esfuerzo\, su pasión y el poder transformador de la música. \n📅 17 de mayo\, 2025\n🕔 5:00 PM\n📍 433 Barker Cypress Rd\, Houston\, TX 77094 \nAcompáñanos en esta celebración donde el talento y la alegría se unen en un solo escenario. ¡Compra tus entradas! 💐🎻 \n¡Compra tus entradas aqui!
URL:https://elsistematexas.org/event/la-primavera-florece-en-musica/
LOCATION:433 Barker Cypress Rd\, Houston\, TX 77094\, 433 Barker Cypress Rd\, Houston\, TX 77094\, Katy\, TX\, 77094\, United States
CATEGORIES:El Sistema Texas
ATTACH;FMTTYPE=image/jpeg:https://elsistematexas.org/wp-content/uploads/2025/04/Flyer-Spring-Concert-2.jpg
END:VEVENT
END:VCALENDAR